BEGIN:VCALENDAR
VERSION:2.0
PRODID:-//Réseau du Nord - ECPv6.15.20//NONSGML v1.0//EN
CALSCALE:GREGORIAN
METHOD:PUBLISH
X-WR-CALNAME:Réseau du Nord
X-ORIGINAL-URL:https://reseaudunord.ca
X-WR-CALDESC:Événements pour Réseau du Nord
REFRESH-INTERVAL;VALUE=DURATION:PT1H
X-Robots-Tag:noindex
X-PUBLISHED-TTL:PT1H
BEGIN:VTIMEZONE
TZID:UTC
BEGIN:STANDARD
TZOFFSETFROM:+0000
TZOFFSETTO:+0000
TZNAME:UTC
DTSTART:20220101T000000
END:STANDARD
END:VTIMEZONE
BEGIN:VEVENT
DTSTART;TZID=UTC:20230615T080000
DTEND;TZID=UTC:20230616T170000
DTSTAMP:20260421T101134
CREATED:20230418T103056Z
LAST-MODIFIED:20230428T082118Z
UID:7326-1686816000-1686934800@reseaudunord.ca
SUMMARY:Forum provincial des Réseaux de soutien en immigration francophone du Nord de l'Ontario
DESCRIPTION:Tous les 2 ans\, les RIFOS organisent un forum provincial afin d’échanger autour de l’immigration francophone en Ontario. Cet évènement est un moment provillégié pour les 3 Réseaux puisqu’il permet de réunir les partenaires lors de temps forts.\nCette année\, c’est le Réseau du Nord qui accueillera le forum dans la ville du Grand Sudbury les 15 et 16 juin 2023. \n  \n  \n  \n  \n 
URL:https://reseaudunord.ca/agendas/forum-provincial-des-reseaux-de-soutiens-en-immigration-francophone-du-nord-de-lontario/
LOCATION:Forum provincial des RIFOS\, Grand Sudbury\, Ontario\, Canada
ATTACH;FMTTYPE=image/png:https://reseaudunord.ca/wp-content/uploads/2023/04/Page-web-1.png
END:VEVENT
END:VCALENDAR